BEGIN:VCALENDAR
VERSION:2.0
PRODID:-//Stadtgeschichte München//DE
CALSCALE:GREGORIAN
BEGIN:VEVENT
UID:27718@stadtgeschichte-muenchen.de
SUMMARY:Thomas Mann im Herzogpark – Das epische Jahrhun
DESCRIPTION:&lt;p&gt;Auf diesem Stadtteil-Spaziergang erklärt Ihnen der Stadtführer &lt;strong&gt;Georg Reichlmayr&lt;/strong&gt; die Geschichte über das Leben des Sprachkünstlers Thomas Mann im Herzogpark so lebendig wie kaum ein anderer.&lt;/p&gt;&lt;p&gt;Die längste Zeit seines Lebens verbrachte Thomas Mann in München. In Schwabing schrieb er seine ersten Erzählungen und die „Buddenbrooks“, in der Maxvorstadt heiratete er in eine der angesehenen Familien Münchens, in der Leopoldstraße kamen seine Kinder zur Welt. Doch die längste Zeit verbrachte er im Herzogpark in Bogenhausen, hier errichtete die Familie eine prächtige Villa und hier entstand&lt;br&gt;„Der Tod in Venedig“. In München feierte Thomas Mann seinen Nobelpreis und wurde kurz darauf durch die nationalsozialistische Hetze vertrieben. Der Spaziergang folgt den Spuren des großen Sprachkünstlers durch Bogenhausen und bindet zahlreiche weitere Künstlerpersönlichkeiten ein.&lt;/p&gt;
DTSTART:20260905T130000
DTEND:20260905T150000
LOCATION:Treffpunkt bzw. Veranstaltungsort wird nach der Anmeldung bekanntgegeben.
ORGANIZER:NordOstKultur München
END:VEVENT
END:VCALENDAR