BEGIN:VCALENDAR
VERSION:2.0
PRODID:-//Stadtgeschichte München//DE
CALSCALE:GREGORIAN
BEGIN:VEVENT
UID:27725@stadtgeschichte-muenchen.de
SUMMARY:Mahnwache - Uhrmacherhäusl
DESCRIPTION:&lt;p&gt;Das Jahr wird eröffnet mit:&lt;/p&gt;&lt;p&gt;- Herrn Mathias Rajmann: er ist der Initiator der &quot;Giesinger Brücke&quot;und wird uns als Referent einen Einblick von seiner Idee einer Brücke ohne Verkehr, über den langen Weg der Planung, bis hin zur, derzeit verschobenen Realisierung, geben&lt;/p&gt;&lt;p&gt;- Herrn Dr. Dandl, der zusammen mit Terry Swartzberg von der&amp;nbsp;&quot;Initiative Stolpersteine für München&quot; für den 29. Januar eine &quot;Face for the Manes-Aktion&quot; für den Platz ohne Namen (Aigner-/Alpenrosenstr.) geplant hat und darüber berichten wird&lt;/p&gt;&lt;p&gt;- Informationen der LBK (Lokalbaukommission München) zum aktuellen Stand des Uhrmacherhäusls aus erster Hand von Herrn Hans-Peter Mehling, Stadtrat Freie Wähler&lt;/p&gt;&lt;p&gt;und im Anschluss gibt es, der Witterung entsprechend, Glühwein oder Punsch&lt;/p&gt;
DTSTART:20260109T180000
DTEND:20260109T000019
LOCATION:Uhrmacherhäusl, Obere Grasstraße 1
ORGANIZER:
END:VEVENT
END:VCALENDAR