BEGIN:VCALENDAR
VERSION:2.0
PRODID:-//Stadtgeschichte München//DE
CALSCALE:GREGORIAN
BEGIN:VEVENT
UID:27730@stadtgeschichte-muenchen.de
SUMMARY:Widerstand und Verfolgung in Giesing 1933-45
DESCRIPTION:&lt;p&gt;Dr. Herbert Dandl, Geschichtshistoriker:&lt;/p&gt;&lt;p&gt;&quot;zusammen mit Terry Swartzberg von der &quot;Initiative Stolpersteine für München&quot;&amp;nbsp;&lt;br&gt;plane ich für den 29. Januar in der Aigner-/Alpenrosenstr. in Obergiesing eine&amp;nbsp;&lt;br&gt;&quot;Faces for the Names&quot;-Aktion zum Thema &lt;strong&gt;&quot;Widerstand und Verfolgung in Giesing&lt;/strong&gt;&lt;br&gt;&lt;strong&gt;1933-45&quot;&lt;/strong&gt;. Sie soll dort stattfinden, wo Lotte und Gottlieb Branz vor 1945 gewohnt&lt;br&gt;haben, weshalb der dortige kleine, bisher unbenannte Platz auch den Namen&amp;nbsp;&lt;br&gt;&quot;Gottlieb-Branz-Platz&quot; bekommen soll. Wir wollen dort nach 18 Uhr auf die Hauswand&amp;nbsp;&lt;br&gt;Bilder von Menschen projizieren, die damals Widerstand geleistet haben und sie mit&lt;br&gt;ein paar Sätzen vorstellen. Der Giesinger Bauverein hat dies bereits genehmigt.&quot;&lt;/p&gt;
DTSTART:20260129T180000
DTEND:20260129T200000
LOCATION:Aigner-/Alpenrosenstr
ORGANIZER:STOL.PER.STEI.NE Initiative für München e.V.
END:VEVENT
END:VCALENDAR