BEGIN:VCALENDAR
VERSION:2.0
PRODID:-//Stadtgeschichte München//DE
CALSCALE:GREGORIAN
BEGIN:VEVENT
UID:27774@stadtgeschichte-muenchen.de
SUMMARY:Eröffnung der Sonderausstellung  - Human und menschlich…?
DESCRIPTION:&lt;p&gt;Zwischen Januar und November 1946 wurden über zwei Millionen Sudetendeutsche aus der Tschechoslowakischen Republik zwangsausgesiedelt. Diese von den alliierten Siegermächten verfügte regulierte Vertreibung sollte nach den Worten des tschechoslowakischen Präsidenten Edvard Beneš „human und menschlich“ ablaufen. Darauf bezieht sich der Ausstellungstitel, der mit einem großen Fragezeichen versehen ist. Die Sonderausstellung des Sudetendeutschen Museums erinnert 80 Jahre danach an dieses Ereignis.&lt;/p&gt;
DTSTART:20260616T190000
DTEND:20260616T210000
LOCATION:Sudetendeutsches Haus Hochstraße10, Museumsfoyer
ORGANIZER:Sudetendeutsches Museum
END:VEVENT
END:VCALENDAR