BEGIN:VCALENDAR
VERSION:2.0
PRODID:-//Stadtgeschichte München//DE
CALSCALE:GREGORIAN
BEGIN:VEVENT
UID:27779@stadtgeschichte-muenchen.de
SUMMARY:Diplom 2026
DESCRIPTION:&lt;p&gt;Zum Ende des Wintersemesters zeigen die Absolventinnen (m/w/d) der Freien Kunst ihre Diplomarbeiten. In den Klassen und den Werkstätten im Altbau sowie der AkademieGalerie sind rund 80 Abschlussarbeiten aus den Bereichen Bildhauerei, Bühnenbild und Kostüm, Fotografie, Malerei und Grafik, Medienkunst, Performance sowie Schmuck und Gerät zu sehen.&lt;/p&gt;&lt;p&gt;Die künstlerischen Arbeiten sind auch auf der Website Diplom 2026 (online ab Anfang Februar 2026)&amp;nbsp;zu finden.&lt;/p&gt;
DTSTART:20260208T140000
DTEND:20260208T150000
LOCATION:Akademie der Bildenden Künste München | Altbau | Akademiestr. 2 & AkademieGalerie
ORGANIZER:
END:VEVENT
END:VCALENDAR