BEGIN:VCALENDAR
VERSION:2.0
PRODID:-//Stadtgeschichte München//DE
CALSCALE:GREGORIAN
BEGIN:VEVENT
UID:27780@stadtgeschichte-muenchen.de
SUMMARY:Faces for the Names Unbekannter Widerstand!
DESCRIPTION:&lt;p&gt;Kooperationspartner:&amp;nbsp;&lt;/p&gt;&lt;p&gt;Bayerisches Staatsministerium der Justiz&lt;/p&gt;&lt;p&gt;Denkstätte Weiße Rose&lt;/p&gt;&lt;p&gt;Stadt München Bezirksausschüsse Obergiesing-Fasangarten sowie Untergiesing Harlaching&amp;nbsp;&lt;/p&gt;
DTSTART:20260324T190000
DTEND:20260324T200000
LOCATION:JVA Stadelheim München, Stadelheimer Straße 12
ORGANIZER:J.E.W.S. Jews Engaged with Society e.V.
END:VEVENT
END:VCALENDAR