BEGIN:VCALENDAR
VERSION:2.0
PRODID:-//Stadtgeschichte München//DE
CALSCALE:GREGORIAN
BEGIN:VEVENT
UID:27789@stadtgeschichte-muenchen.de
SUMMARY:Denkmale und Kunstwerke in Altbogenhausen
DESCRIPTION:&lt;p&gt;Begleiten Sie auf unserer zweiten Kunst-Radltour die Buchautorin &lt;strong&gt;Karin Bernst&lt;/strong&gt; durch die prachtvolle Bogenhausener Villensiedlung. Viele dieser Häuser erhielten einen Fassadenpreis.&lt;/p&gt;&lt;p&gt;Die Route führt uns entlang der geschichtsträchtigen Möhlstraße und Maria-Theresia-Straße bis zum Europaplatz. Beendet wird die Tour voraussichtlich bei der historischen Bürgermeistervilla an der Ismaninger Straße. Freuen Sie sich auf fundierte Einblicke in die Geschichte von Kunstschätzen in Bogenhausen.&lt;/p&gt;
DTSTART:20260425T150000
DTEND:20260425T170000
LOCATION:Treffpunkt bzw. Veranstaltungsort wird nach der Anmeldung bekanntgegeben.
ORGANIZER:NordOstKultur München
END:VEVENT
END:VCALENDAR