BEGIN:VCALENDAR
VERSION:2.0
PRODID:-//Stadtgeschichte München//DE
CALSCALE:GREGORIAN
BEGIN:VEVENT
UID:27790@stadtgeschichte-muenchen.de
SUMMARY:Englschalking, Geschichte und Gegenwart
DESCRIPTION:&lt;p&gt;Rundgang durch den ehemaligen Dorfkern Engelschalkings mit &lt;strong&gt;Gerhard Ebermeyer&lt;/strong&gt;.&lt;br&gt;Englschalkings Dorfkern zählt zu den schönsten in München und ist annähernd identisch mit der Ausdehnung des Dorfes im frühen 19. Jahrhundert.&lt;br&gt;Die Kirche aus dem 13. Jahrhundert ist als historischer Mittelpunkt umgeben von bäuerlichen Anwesen und einer ehemaligen Schule.&lt;/p&gt;
DTSTART:20260523T150000
DTEND:20260523T163000
LOCATION:Treffpunkt bzw. Veranstaltungsort wird nach der Anmeldung bekanntgegeben.
ORGANIZER:NordOstKultur München
END:VEVENT
END:VCALENDAR