BEGIN:VCALENDAR
VERSION:2.0
PRODID:-//Stadtgeschichte München//DE
CALSCALE:GREGORIAN
BEGIN:VEVENT
UID:27796@stadtgeschichte-muenchen.de
SUMMARY:St. Emmeram
DESCRIPTION:&lt;p&gt;&lt;strong&gt;Siegfried Kellerer&lt;/strong&gt;, alteingesessener St.-Emmeramer, führt Sie von der Oberföhringer Pfarrkirche den Isarhang hinunter durch die Auenlandschaft hinüber zur Isarinsel und zum Stauwehr, an der Isar entlang zurück zum geschichtsträchtigen Weiler St. Emmeram.&lt;/p&gt;
DTSTART:20260808T150000
DTEND:20260808T170000
LOCATION:Treffpunkt bzw. Veranstaltungsort wird nach der Anmeldung bekanntgegeben.
ORGANIZER:NordOstKultur München
END:VEVENT
END:VCALENDAR