BEGIN:VCALENDAR
VERSION:2.0
PRODID:-//Stadtgeschichte München//DE
CALSCALE:GREGORIAN
BEGIN:VEVENT
UID:27798@stadtgeschichte-muenchen.de
SUMMARY:Bogenhausen im Nationalsozialismus
DESCRIPTION:&lt;p&gt;Die herrschaftlichen Villen und grossen Grundstücke in Bogenhausen machten seit Ende des ersten Weltkriegs schon manchen Wandel durch, aber mit dem Machtwechsel 1933 gerieten sie zunehmend ins Visier nationalsozialischer Begehrlichkeiten.&lt;/p&gt;&lt;p&gt;Auf einem Stadtteilspaziergang, mit &lt;strong&gt;Sibylle Reinicke&lt;/strong&gt;, erfahren Sie vom Schicksal vieler Häuser, ihrer Erbauer und früheren Besitzer und erklärt, wie sich die NS-Elite in den Besitz all der Liegenschaften brachte.&lt;/p&gt;
DTSTART:20260919T150000
DTEND:20260919T163000
LOCATION:Treffpunkt bzw. Veranstaltungsort wird nach der Anmeldung bekanntgegeben.
ORGANIZER:NordOstKultur München
END:VEVENT
END:VCALENDAR