BEGIN:VCALENDAR
VERSION:2.0
PRODID:-//Stadtgeschichte München//DE
CALSCALE:GREGORIAN
BEGIN:VEVENT
UID:27800@stadtgeschichte-muenchen.de
SUMMARY:Geothermie-Heizwerk in München-Riem 
DESCRIPTION:&lt;p&gt;Nun wenige Tage nach dem Vortrag von Prof. Dr. Richard Höfling, Dipl.-Geologe (ehem. Friedrich-Alexander-Universität Erlangen-Nürnberg) zum Thema „Geothermie im Aufwind — warum gerade in Bayern? Eine geologische Betrachtung“, können Sie die Geburtsstunde der Münchner Erdwärme-Nutzung erleben.Die erste Geothermie-Anlage in München wurde 2004 durch die Stadtwerke München in Riem gebaut. Mit dieser Anlage setzte die SWM damit Maßstäbe für eine nachhaltige Energieversorgung in unserer Stadt. Das Prinzip ist so simpel wie faszinierend: Rund 2.900 Meter unter der Erdoberfläche wird heißes Wasser gefördert, um die Messestadt sowie das Messegelände klimaschonend mit Wärme zu versorgen. Begleiten Sie uns, in Zusammenarbeit mit der SWM, auf einer exklusiven Tour durch das Heizwerk. Eine Expertin der SWM erläutert Ihnen vor Ort die technischen Details und die Funktionsweise dieses Vorzeigeprojekts.&lt;/p&gt;
DTSTART:20261014T140000
DTEND:20261014T160000
LOCATION:Treffpunkt bzw. Veranstaltungsort wird nach der Anmeldung bekanntgegeben.
ORGANIZER:NordOstKultur München
END:VEVENT
END:VCALENDAR