BEGIN:VCALENDAR
VERSION:2.0
PRODID:-//Stadtgeschichte München//DE
CALSCALE:GREGORIAN
BEGIN:VEVENT
UID:27801@stadtgeschichte-muenchen.de
SUMMARY:Olympiapark – Wahrzeichen des modernen Münchens
DESCRIPTION:&lt;p&gt;Der Olympiapark ist und bleibt ein Wahrzeichen des modernen Münchens. Die Anlagen gelten als die weltweit am besten genutzten olympischen Sportstätten, sie sind ein Erholungspark für alle Münchner und eine touristische Attraktion ersten Ranges.&lt;/p&gt;&lt;p&gt;Dabei könnte der Park noch mehr in den Fokus der Öffentlichkeit rücken, wenn sich München um die Olympischen Spiele in den Jahren 2036, 2040 oder 2044 bewerben sollte. Hierbei ist der Olympiapark ein Muster an nachhaltiger Nutzung und damit ein wichtiger Baustein für eine erfolgreiche Bewerbung.&lt;/p&gt;&lt;p&gt;&lt;strong&gt;Arno Hartung&lt;/strong&gt;, der ehemalige Geschäftsführer der Olympiapark München GmbH, führt Sie im Rahmen eines rund zweistündigen Rundgangs durch die wichtigsten Sportstätten und das großzügige Freigelände. Dabei werden Erinnerungen an die Olympischen Spiele 1972, aber auch an die vielen tausend Ereignisse der nacholympischen Zeit wach. Damit verbunden sind Fragen, wie sich der Olympiapark mit Großereignissen und vorgesehenen Baumaßnahmen in den nächsten Jahren weiterentwickeln wird.&lt;/p&gt;
DTSTART:20261017T150000
DTEND:20261017T170000
LOCATION:Treffpunkt bzw. Veranstaltungsort wird nach der Anmeldung bekanntgegeben.
ORGANIZER:NordOstKultur München
END:VEVENT
END:VCALENDAR