BEGIN:VCALENDAR
VERSION:2.0
PRODID:-//Stadtgeschichte München//DE
CALSCALE:GREGORIAN
BEGIN:VEVENT
UID:27813@stadtgeschichte-muenchen.de
SUMMARY:Die Nacht ist nicht allein zum Schlafen da
DESCRIPTION:&lt;p&gt;Viele Menschen betrachten es als selbstverständlich, dass um 1.30 Uhr eine S-Bahn fährt, die Notdienste erreichbar sind, die Semmeln frühmorgens frisch sind oder jederzeit sauberes Trinkwasser aus der Leitung kommt. Doch für diese Annehmlichkeiten arbeiten viele Menschen nachts. Was bewegt sie? Welche Tätigkeiten fallen nachts an? Wer arbeitet eigentlich nachts und warum? Auf dieser Bustour werden wir vier Unternehmen besuchen und Nachtarbeit aus erster Hand erleben. Diese Veranstaltung richtet sich an Erwachsene. Bitte beachten Sie, dass Treppen bewältigt werden müssen.&lt;/p&gt;
DTSTART:20260703T210000
DTEND:20260703T050000
LOCATION:Gasteig, Rückseite
ORGANIZER:MVHS
END:VEVENT
END:VCALENDAR