BEGIN:VCALENDAR
VERSION:2.0
PRODID:-//Stadtgeschichte München//DE
CALSCALE:GREGORIAN
BEGIN:VEVENT
UID:27827@stadtgeschichte-muenchen.de
SUMMARY:Wohnzimmer-Safari durch Münchens Stadtgeschichte
DESCRIPTION:&lt;p&gt;&quot;Stadtspaziergänge&quot; ohne Sonnenbrand, Regen, Hitze oder kalte Füße – dafür informativ und bequem: Diese Vortragsreihe nimmt Sie an Sonntagvormittagen – gänzlich witterungsunabhängig und ganz kommod – mit auf eine kurzweilige Tour durch ausgewählte Kapitel der Münchner Stadtgeschichte. Im Mittelpunkt stehen dabei Ereignisse, die viel über München und seine Gesellschaft verraten, im Allgemeinen aber wenig(er) bekannt sind. Dieser Vortrag unternimmt einen gedanklichen Oster-Spaziergang durch die Gasteig- und Maximiliansanlagen und führt von der Nikolai- zur Georgskirche.&lt;/p&gt;
DTSTART:20260329T110000
DTEND:20260329T120000
LOCATION:Bildungszentrum Einsteinstr. 28
ORGANIZER:MVHS
END:VEVENT
END:VCALENDAR