BEGIN:VCALENDAR
VERSION:2.0
PRODID:-//Stadtgeschichte München//DE
CALSCALE:GREGORIAN
BEGIN:VEVENT
UID:27848@stadtgeschichte-muenchen.de
SUMMARY:Sommer-Sonntagsreihe: die vier Münchner Altstadtviertel 
DESCRIPTION:&lt;p&gt;Das Tal, die ehemals breiteste Straße der Altstadt, stellt die Lebensader der Graggenau dar, des nordöstlichen Viertels der Münchner Innenstadt. Bei dieser Führung erkunden wir den ehemals wichtigsten, in das Zentrum der Stadt führenden Handelsweg und gehen unter anderem der Frage nach, welches Gebäude die Bezeichnung „Ältestes Bürgerhaus Münchens“ für sich in Anspruch nehmen kann. Wir suchen einen versteckten, bis heute relativ unentdeckt gebliebenen gotischen Hof auf und beschäftigen uns mit einer ominösen „Goldenen Neunzehn“.&lt;/p&gt;&lt;p&gt;Der Endpunkt ist voraussichtlich nahe Max-Joseph-Platz.&lt;/p&gt;
DTSTART:20260726T110000
DTEND:20260726T130000
LOCATION:unter dem Torbogen Sendlinger Tor
ORGANIZER:MVHS
END:VEVENT
END:VCALENDAR