BEGIN:VCALENDAR
VERSION:2.0
PRODID:-//Stadtgeschichte München//DE
CALSCALE:GREGORIAN
BEGIN:VEVENT
UID:27852@stadtgeschichte-muenchen.de
SUMMARY:Von Badern, Wundärzten, Quacksalbern, Aberglauben und Rosskuren
DESCRIPTION:&lt;p&gt;Von den Spitälern und Seelhäusern bis zum modernen Krankenhaus war es ein langer Weg. Wer galt als Arzt? Was vermochte die Medizin? Pflege und Trost konnte man anbieten. Mit Heilkräutern, Amuletten und Gebeten versuchte man zu helfen, zwischen Naturheilkunde und Hexerei, Glauben und Aberglauben. Denn immer wieder beherrschten Seuchen wie Pest, Cholera und Typhus das Leben in München. Einige Häuser und Örtlichkeiten weisen heute noch auf die ehemaligen, sehr verschiedenartigen Einrichtungen hin und erzählen von der Versorgungs- und Pflegesituation und den medizinischen Möglichkeiten jener Zeit.&lt;/p&gt;
DTSTART:20260419T140000
DTEND:20260419T160000
LOCATION:Heilig-Geist-Kirche (Eingang auf der Seite zum Viktualienmarkt)
ORGANIZER:MVHS
END:VEVENT
END:VCALENDAR