BEGIN:VCALENDAR
VERSION:2.0
PRODID:-//Stadtgeschichte München//DE
CALSCALE:GREGORIAN
BEGIN:VEVENT
UID:27856@stadtgeschichte-muenchen.de
SUMMARY:Bayern – was ist das? Vorstellungen über ein Land, seine Menschen und Kulturen
DESCRIPTION:&lt;p&gt;Der Freistaat, FC Bayern München und das Reinheitsgebot. Ist das Bayern? Nein, es ist eine Auswahl von Schlagwörtern, die sicherlich nicht ein über 70.000 Quadratkilometer und 13 Millionen Menschen großes Land beschreiben kann. Die Geschichte dieses Flecken Erde ist lang und interessant. Aber auch die Image-Bildung, die es über Jahrhunderte erhielt, ist reich und wird aktiv fortgeführt. Wir wollen gemeinsam der „Marke Bayern“ nachgehen, indem wir exemplarisch an Orten wie dem Hofbräuhaus oder der Staatskanzlei Halt machen und dort diskutieren.&lt;/p&gt;
DTSTART:20260315T120000
DTEND:20260315T140000
LOCATION:Residenzmodell am Max-Joseph-Platz
ORGANIZER:MVHS
END:VEVENT
END:VCALENDAR