BEGIN:VCALENDAR
VERSION:2.0
PRODID:-//Stadtgeschichte München//DE
CALSCALE:GREGORIAN
BEGIN:VEVENT
UID:27857@stadtgeschichte-muenchen.de
SUMMARY:Standortbestimmung ab 1812: Bayern nimmt Maß für die Zukunft
DESCRIPTION:&lt;p&gt;Und was haben die Herren Fraunhofer, Reichenbach und Utzschneider damit zu tun? Diese drei (und einige weitere) besorgen einen wahren Technologiesprung für Bayern: An dessen Ende ist Bayern nicht nur das Land mit den genauesten Landkarten, sondern führend in optischer und feinmechanischer Industrie und der Technik der Lithographie. Auch wird durch ein genaues Steuerkatasterwesen die Grundlage geschaffen für gerechtere Grundsteuern und die Erleichterung privater Grundstückskäufe. Kurz: Bayern landet in der Moderne.&lt;/p&gt;&lt;p&gt;Der Endpunkt ist voraussichtlich am Künstlerhaus, nahe Stachus.&lt;/p&gt;
DTSTART:20260610T160000
DTEND:20260610T180000
LOCATION:Reichenbachplatz, bei der Trambahnhaltestelle Ecke Rumfordstr./Buttermelcherstr.
ORGANIZER:MVHS
END:VEVENT
END:VCALENDAR