BEGIN:VCALENDAR
VERSION:2.0
PRODID:-//Stadtgeschichte München//DE
CALSCALE:GREGORIAN
BEGIN:VEVENT
UID:27885@stadtgeschichte-muenchen.de
SUMMARY:Zu Gast im Haus des Deutschen Ostens in der Au
DESCRIPTION:&lt;p&gt;Das Haus des Deutschen Ostens ist eine Kultureinrichtung des Freistaats Bayern, die sich mit der Geschichte der Deutschen im und aus dem östlichen Europa beschäftigt. In der Führung durch das Haus wird die Geschichte des Gebäudes – vom Benediktinerinnenkloster im 17. Jahrhundert bis in die Gegenwart – vorgestellt. Ein Highlight ist dabei die Besichtigung des sonst nicht zugänglichen Dachstuhls. Auch die Bibliothek des HDO mit 90.000 Bänden und 381 Periodika ist Teil der Führung mit Einblicken in besondere Schätze und das sonst verschlossene Magazin.&lt;/p&gt;&lt;p&gt;(Dachstuhl und Magazin sind leider nicht rollstuhlgerecht zugänglich.)&lt;/p&gt;
DTSTART:20260717T140000
DTEND:20260717T153000
LOCATION:Haus des Deutschen Ostens, Am Lilienberg 5
ORGANIZER:MVHS
END:VEVENT
END:VCALENDAR