BEGIN:VCALENDAR
VERSION:2.0
PRODID:-//Stadtgeschichte München//DE
CALSCALE:GREGORIAN
BEGIN:VEVENT
UID:27889@stadtgeschichte-muenchen.de
SUMMARY:Gelebte Städtepartnerschaft München – Bordeaux
DESCRIPTION:&lt;p&gt;Am 30.5.1964 besiegelten die damaligen Oberbürgermeister Jacques Chaban-Delmas und Hans-Jochen Vogel die Städtepartnerschaft zwischen Bordeaux und München – fast 20 Jahre nach dem Ende des Zweiten Weltkriegs und nach der vier Jahre dauernden deutschen Besetzung Frankreichs. Die Initiative München Bordeaux (IMB) e.V. gründete sich 2015, um ihren Beitrag zu leisten zu Völkerverständigung und einer bürgerschaftlich gelebten Städtepartnerschaft. Lernen Sie diesen Verein und die Partnerstadt Bordeaux bei dieser Online-Veranstaltung besser kennen und kommen Sie mit Mitgliedern des Vereins ins Gespräch! Und wenn Sie möchten, können Sie bei einem kurzen Quiz am Ende der Veranstaltung testen, was Sie nun alles über Bordeaux wissen.&lt;/p&gt;&lt;p&gt;Bitte beachten Sie: Die Veranstaltung beginnt um &lt;strong&gt;19.00 Uhr&lt;/strong&gt; und endet vsl. gegen 20.15 Uhr. (Im gedruckten Programm ist die Uhrzeit leider nicht korrekt angegeben.)&lt;/p&gt;
DTSTART:20260319T190000
DTEND:20260319T201500
LOCATION:
ORGANIZER:MVHS
END:VEVENT
END:VCALENDAR