BEGIN:VCALENDAR
VERSION:2.0
PRODID:-//Stadtgeschichte München//DE
CALSCALE:GREGORIAN
BEGIN:VEVENT
UID:27890@stadtgeschichte-muenchen.de
SUMMARY:Verborgene Innenhöfe, vergessene Denkmäler und besondere Bauten
DESCRIPTION:&lt;p&gt;Verborgene Innenhöfe, vergessene Denkmäler, schöne Bauten und versteckte Porträts von Münchner Originalen ...: Entdecken Sie dies und vieles mehr in der Münchner Altstadt – abseits der viel begangenen Wege! Dieser virtuelle Stadtspaziergang, der über verschlungene Pfade vom Karlstor zum Promenadeplatz führt, lädt Sie ein, von zu Hause aus mehr über die Münchner Altstadt und ihre weniger bekannten Orte und Facetten zu erfahren.&lt;/p&gt;
DTSTART:20260326T173000
DTEND:20260326T190000
LOCATION:
ORGANIZER:MVHS
END:VEVENT
END:VCALENDAR