BEGIN:VCALENDAR
VERSION:2.0
PRODID:-//Stadtgeschichte München//DE
CALSCALE:GREGORIAN
BEGIN:VEVENT
UID:27896@stadtgeschichte-muenchen.de
SUMMARY:Themenrundgang: (Dis-)Kontinuitäten von rassistischer Diskriminierung, Ausgrenzung und Ver
DESCRIPTION:&lt;p&gt;Seit der NS-Machtübernahme fand eine systematische Diskriminierung und Ausgrenzung von bestimmten Menschengruppen auf Basis der NS-Rasseideologie statt. Juden und Jüdinnen, Sinti und Roma oder die sog. „Asozialen“ sind einige dieser Gruppen, die der rassistischen NS-Politik ausgesetzt waren und in Konzentrationslager deportiert wurden. Betroffen von Diskriminierung waren zudem People of Colour.&lt;/p&gt;&lt;p&gt;Im Themenrundgang stehen nicht nur Aspekte von Rassismus und Ausgrenzung zur NS-Zeit im Fokus, sondern auch die Kontinuität von Vorurteilen.&lt;/p&gt;&lt;p&gt;Die KZ-Gedenkstätte bietet diesen Rundgang im Rahmen der Internationalen Wochen gegen Rassismus an (www.stiftung-gegen-rassismus.de/iwgr).&lt;/p&gt;
DTSTART:20260328T140000
DTEND:20260328T163000
LOCATION:Dachau, Besucherzentrum KZ-Gedenkstätte Dachau Pater-Roth-Str. 2a
ORGANIZER:MVHS
END:VEVENT
END:VCALENDAR