BEGIN:VCALENDAR
VERSION:2.0
PRODID:-//Stadtgeschichte München//DE
CALSCALE:GREGORIAN
BEGIN:VEVENT
UID:27898@stadtgeschichte-muenchen.de
SUMMARY:Themenrundgang: Sinti und Roma im KZ Dachau
DESCRIPTION:&lt;p&gt;Ab 1938 wurden Sinti und Roma in größerer Zahl in das KZ Dachau verschleppt. Hier standen sie in der Hierarchie der Häftlingsgesellschaft oft weit unten und wurden beispielsweise besonders harten Arbeitskommandos zugeteilt. Auch nach 1945 hatten Angehörige dieser Gruppe oft weiterhin mit Diskriminierung zu kämpfen.Anhand von zahlreichen biografischen Beispielen wird die Geschichte einer lange vergessenen Verfolgtengruppe erzählt.&lt;/p&gt;&lt;p&gt;Die KZ-Gedenkstätte bietet diesen Rundgang anlässlich des Gedenkens an die Deportation der Münchner Sinti und Roma am 13. März 1943 und im Rahmen der Internationalen Wochen gegen Rassismus an (www.stiftung-gegen-rassismus.de/iwgr).&lt;/p&gt;
DTSTART:20260802T140000
DTEND:20260802T163000
LOCATION:Dachau, Besucherzentrum KZ-Gedenkstätte Dachau Pater-Roth-Str. 2a
ORGANIZER:MVHS
END:VEVENT
END:VCALENDAR