BEGIN:VCALENDAR
VERSION:2.0
PRODID:-//Stadtgeschichte München//DE
CALSCALE:GREGORIAN
BEGIN:VEVENT
UID:27901@stadtgeschichte-muenchen.de
SUMMARY:Themenrundgang: historische Objekte
DESCRIPTION:&lt;p&gt;Der Rundgang am Internationalen Museumstag widmet sich den in der Dauerausstellung der Gedenkstätte ausgestellten Objekten. Neben historischen Gegenständen aus der Lagerzeit – so etwa einer Schubkarre oder einer Häftlingsuniform – gibt es auch Objekte – wie das 2014 gestohlene Lagertor –, die für die Geschichte der Gedenkstätte bedeutend sind. Hinzu kommen Zeichnungen, in denen Überlebende das Erlebte verarbeitet haben.&lt;/p&gt;&lt;p&gt;Im Rundgang wird der Geschichte einiger spannender Objekte aus Ausstellung und Sammlung nachgegangen.&lt;/p&gt;&lt;p&gt;Die KZ-Gedenkstätte Dachau bietet diesen Rundgang anlässlich des Internationalen Museumstags an (www.museumstag.de).&lt;/p&gt;
DTSTART:20260517T140000
DTEND:20260517T163000
LOCATION:Dachau, Besucherzentrum KZ-Gedenkstätte Dachau Pater-Roth-Str. 2a
ORGANIZER:MVHS
END:VEVENT
END:VCALENDAR