BEGIN:VCALENDAR
VERSION:2.0
PRODID:-//Stadtgeschichte München//DE
CALSCALE:GREGORIAN
BEGIN:VEVENT
UID:27904@stadtgeschichte-muenchen.de
SUMMARY:Themenrundgang: Gedenkort ehemaliger SS-Schießplatz Hebertshausen
DESCRIPTION:&lt;p&gt;Auf dem SS-Schießplatz Hebertshausen bei Dachau wurden zwischen 1941 und 1942 über 4000 sowjetische Kriegsgefangene durch die Lager-SS ermordet. Seit 2014 informiert eine Freiluftausstellung über die historischen Hintergründe des Verbrechens, Biografien der Ermordeten, die Rolle der Täter und das Wissen der Bevölkerung über die Verbrechen. Die bisher bekannten Namen der Opfer sind in der Installation „Ort der Namen“ festgehalten. Der Rundgang geht sowohl auf die historischen Ereignisse als auch auf den Umgang mit dem Ort nach 1945 ein.&lt;/p&gt;
DTSTART:20260620T140000
DTEND:20260620T163000
LOCATION:Dachau Parkplatz der Gedenkstätte ehemaliger \"SS-Schießplatz Herbertshausen\" Alte Römerstr. 75
ORGANIZER:MVHS
END:VEVENT
END:VCALENDAR