BEGIN:VCALENDAR
VERSION:2.0
PRODID:-//Stadtgeschichte München//DE
CALSCALE:GREGORIAN
BEGIN:VEVENT
UID:27905@stadtgeschichte-muenchen.de
SUMMARY:Themenrundgang: Schwarze Häftlinge im KZ Dachau
DESCRIPTION:&lt;p&gt;Der Begriff „Schwarz“ wird oft als Selbstbezeichnung von Menschen afrikanischer und afro-diasporischer Herkunft, Menschen mit dunkler Hautfarbe und People of Color gewählt. Im Rundgang wird anhand ausgewählter Biografien der Frage nachgegangen, warum Schwarze Menschen in das KZ Dachau verschleppt wurden und wie ihre Situation während der NS-Zeit generell und in Konzentrationslagern im Speziellen ausgesehen hat. Sie wurden im KZ nicht in einer speziellen Häftlingskategorie erfasst, waren dem Rassismus der SS jedoch schonungslos ausgesetzt.&lt;/p&gt;
DTSTART:20260711T140000
DTEND:20260711T163000
LOCATION:Dachau Besucherzentrum KZ-Gedenkstätte Dachau Pater-Roth-Str. 2a
ORGANIZER:MVHS
END:VEVENT
END:VCALENDAR