BEGIN:VCALENDAR
VERSION:2.0
PRODID:-//Stadtgeschichte München//DE
CALSCALE:GREGORIAN
BEGIN:VEVENT
UID:27911@stadtgeschichte-muenchen.de
SUMMARY:Kirchenkampf in Moosach
DESCRIPTION:&lt;p&gt;Pfarrer Josef Knogler, von 1924 bis 1964 Seelsorger an St. Martin, hinterließ viele Seiten an persönlichen Aufzeichnungen. Sie zeigen, wie Knogler seine Gemeinde durch die Jahre des Nationalsozialismus und das Kriegsende brachte, und dass das Verhältnis zwischen katholischer Kirche und NS-Regime keineswegs ein &quot;Kirchenkampf&quot; gewesen ist, eher eine komplexe Melange aus Anpassung und vorsichtigem Widerstand.&lt;/p&gt;&lt;p&gt;In Kooperation mit dem Geschichtsverein Moosach e.V.&lt;/p&gt;&lt;p&gt;Im Rahmen der Vortragsreihe &quot;Montags in Moosach&quot;.&lt;/p&gt;
DTSTART:20260622T190000
DTEND:20260622T203000
LOCATION:MVHS in Moosach Baubergerstr. 6a
ORGANIZER:MVHS
END:VEVENT
END:VCALENDAR