BEGIN:VCALENDAR
VERSION:2.0
PRODID:-//Stadtgeschichte München//DE
CALSCALE:GREGORIAN
BEGIN:VEVENT
UID:27917@stadtgeschichte-muenchen.de
SUMMARY:MVG-Betriebszentrum
DESCRIPTION:&lt;p&gt;Im MVG-Betriebszentrum wird der Betrieb von U-Bahn, Bus und Tram gesteuert und überwacht. Seit 2021 hat die MVG eine gemeinsame Zentrale für alle drei Betriebszweige in einem eigens dafür errichteten Gebäude. Mitarbeitende der MVG erklären Ihnen die Abläufe und ermöglichen einen einzigartigen Blick in den Leitraum.&lt;/p&gt;
DTSTART:20260325T130000
DTEND:20260325T140000
LOCATION:Empfang der Stadtwerke München Zentrale Emmy-Noether-Str. 2
ORGANIZER:MVHS
END:VEVENT
END:VCALENDAR