BEGIN:VCALENDAR
VERSION:2.0
PRODID:-//Stadtgeschichte München//DE
CALSCALE:GREGORIAN
BEGIN:VEVENT
UID:27937@stadtgeschichte-muenchen.de
SUMMARY:Krawalle, Kult und Kultur
DESCRIPTION:&lt;p&gt;Schwabing ist legendär - trotzdem gibt es einiges abseits der Schwabing-Klischees zu entdecken. Historische Schauplätze, Kultkneipen und ruhige Ecken liegen nebeneinander. Von der Münchner Freiheit aus führt der Rundgang zu unterschiedlichen Plätzen, die sowohl für „Krawalle, Kult und Kultur“ stehen, aber auch den Alltag zeigen. Von Bombenstimmung bis Boheme führt die Route bis zum ehemaligen Schloss Biederstein. Am Ende haben wir einige Orte kennengelernt, die definitiv Fanny von Reventlows Aussage folgen: „Schwabing ist kein Ort, sondern ein Zustand!“.&lt;/p&gt;
DTSTART:20260517T110000
DTEND:20260517T130000
LOCATION:Spielplatz an der Münchner Freiheit vor dem südlichen Eingangstor (U6, U3, Münchner Freiheit, Ausgang B)
ORGANIZER:MVHS
END:VEVENT
END:VCALENDAR