BEGIN:VCALENDAR
VERSION:2.0
PRODID:-//Stadtgeschichte München//DE
CALSCALE:GREGORIAN
BEGIN:VEVENT
UID:27938@stadtgeschichte-muenchen.de
SUMMARY:Vom Schwabinger Tor bis zum Domagkpark
DESCRIPTION:&lt;p&gt;Der Norden Schwabings wandelte sich von Industriebrachen zu spannenden Stadtquartieren, in denen Wohnen und Arbeiten vereint sind. Wir besuchen das Gelände des einstigen Großhandels METRO und des legendären Schwabylon. Entlang der Tram 23, einst Anbindung zum Schwabinger Bahnhof, erkunden wir die spannende Architektur der Parkstadt Schwabing mit den Highlight-Towers, Bauhausnamen und internationalen Firmen. Der Spaziergang endet im Domagkpark mit seinen genossenschaftlichen Wohnprojekten.&lt;/p&gt;
DTSTART:20260613T153000
DTEND:20260613T173000
LOCATION:vor dem Tantris Johann-Fichte-Straße 7
ORGANIZER:MVHS
END:VEVENT
END:VCALENDAR