BEGIN:VCALENDAR
VERSION:2.0
PRODID:-//Stadtgeschichte München//DE
CALSCALE:GREGORIAN
BEGIN:VEVENT
UID:27940@stadtgeschichte-muenchen.de
SUMMARY:Skulpturen und Kunsträume im Kunstareal
DESCRIPTION:&lt;p&gt;Begleiten Sie die Kunsthistorikerin Regina Sasse, die sich seit vielen Jahren mit Kunst im öffentlichen Raum beschäftigt, auf ihrem Kunstspaziergang vom Ägyptischen Museum zum Skulpturenpark an der Alten Pinakothek zu Werken und Räumen rund um die Pinakothek der Moderne. Positionen von Anfang der 1970er Jahre bis heute werden besucht und diskutiert. Objekte von u.a. Henk Visch, Keith Haring und Alf Lechner werden erläutert, Werke von Chillida und Walter De Maria bieten kontemplative Räume und ein buntes “FLUX” will “Dritter Ort” für uns alle sein.&lt;/p&gt;
DTSTART:20260215T140000
DTEND:20260215T153000
LOCATION:Eingang Hochschule für Fernsehen und Film München Bernd-Eichinger-Platz 1
ORGANIZER:MVHS
END:VEVENT
END:VCALENDAR