BEGIN:VCALENDAR
VERSION:2.0
PRODID:-//Stadtgeschichte München//DE
CALSCALE:GREGORIAN
BEGIN:VEVENT
UID:27956@stadtgeschichte-muenchen.de
SUMMARY:Feierabendspaziergang durch Freimann
DESCRIPTION:&lt;p&gt;Nicht viel ist übrig vom jahrhundertealten Ort Freimann, doch die Lage an der Hauptverbindungsstraße nach Freising und Landshut lässt sich bis heute noch gut erkennen. Auf unserem Feierabendspaziergang mit der Leiterin des Mohr-Villa&amp;nbsp;Stadtteilarchiv Freimann folgen wir dieser Straße von Norden nach Süden durch Altfreimann und erschließen uns auf dem Weg wichtige Etappen der Entwicklung Freimanns. Die Tour beginnt an der Schule an der Situlistraße und endet am St.-Nikolaus-Platz (nahe der U-Bahn Station Freimann).&lt;/p&gt;
DTSTART:20260703T190000
DTEND:20260703T210000
LOCATION:Mittelschule, vor dem Haupteingang Situlistraße 87
ORGANIZER:MVHS
END:VEVENT
END:VCALENDAR