BEGIN:VCALENDAR
VERSION:2.0
PRODID:-//Stadtgeschichte München//DE
CALSCALE:GREGORIAN
BEGIN:VEVENT
UID:27960@stadtgeschichte-muenchen.de
SUMMARY:Bayern blüht
DESCRIPTION:&lt;p&gt;Entdecken Sie die mehrfach mit Gold ausgezeichnete Kleingartenanlage NW 18, die zusätzlich die „Bayern blüht“-Auszeichnung 2022 als erste Kleingartenanlage Bayerns erhielt. Die grüne Oase ist ein Rückzugsort für Mitglieder, Besuchende und Schutzraum für Tiere und Pflanzen. Bei einer Führung erfahren Sie mehr über diesen einzigartigen, preisgekrönten Ort, der geprägt wird durch ein großes soziales Miteinander, naturnahen, insektenfreundlichen Gärten, den biologischen Obst- und Gemüseanbau sowie den Naturlehrpfad mit Gartenelementen.&lt;/p&gt;&lt;p&gt;In Kooperation mit der Kleingartenverein NW 18 e.V.&lt;/p&gt;
DTSTART:20260711T150000
DTEND:20260711T163000
LOCATION:vor dem Vereinsheim, Kleingartenanlage NW18, Eingang Waldhornstr. 84 (Bus 162, Manzostr.)
ORGANIZER:MVHS
END:VEVENT
END:VCALENDAR