BEGIN:VCALENDAR
VERSION:2.0
PRODID:-//Stadtgeschichte München//DE
CALSCALE:GREGORIAN
BEGIN:VEVENT
UID:27964@stadtgeschichte-muenchen.de
SUMMARY:Zukunftsorte
DESCRIPTION:&lt;p&gt;Was gehört zu einer lebenswerten Zukunft? Die Vereinten Nationen haben dies in ihren Zielen zur nachhaltigen Entwicklung festgeschrieben. Wir besuchen bekannte und unbekannte Orte im Münchner Norden, in denen Menschen gute Lösungen geschaffen haben, um dieser Zukunft ein Stück näher zu kommen. Die Führung mit Roman Schaller (&quot;Parents For Future München&quot;, Journalist &quot;Radio Lora&quot;, DJ &quot;küchenradio&quot;) ist eine Einladung, unsere Zukunft mit Optimismus zu betrachten und zu sehen, wie Menschen im Münchner Norden aktiv an einer besseren Welt arbeiten.&lt;/p&gt;
DTSTART:20260925T153000
DTEND:20260925T170000
LOCATION:Ecke Knorrstr./Schopenhauerstr. (U Milbertshofen)
ORGANIZER:MVHS
END:VEVENT
END:VCALENDAR