BEGIN:VCALENDAR
VERSION:2.0
PRODID:-//Stadtgeschichte München//DE
CALSCALE:GREGORIAN
BEGIN:VEVENT
UID:27965@stadtgeschichte-muenchen.de
SUMMARY:Auf den Spuren des historischen Moosach
DESCRIPTION:&lt;p&gt;Moosach zählt zu den ältesten Orten in und rund um München – erste Spuren reichen über 4000 Jahre zurück. Entlang der historischen Pelkovenstraße, einst Teil der mittelalterlichen Salzstraße, zeigen sich noch heute Relikte des alten Bauerndorfs: die St.-Martinskirche als ältester Sakralbau Münchens, das Pelkovenschlössl sowie frühere Höfe und Wirtshäuser. Der Rundgang lädt ein zu einer Zeitreise durch die Geschichte Moosachs – vom Dorf bis zum Münchner Stadtteil.&lt;/p&gt;
DTSTART:20260926T160000
DTEND:20260926T173000
LOCATION:MVHS in Moosach Baubergerstr. 6a
ORGANIZER:MVHS
END:VEVENT
END:VCALENDAR