BEGIN:VCALENDAR
VERSION:2.0
PRODID:-//Stadtgeschichte München//DE
CALSCALE:GREGORIAN
BEGIN:VEVENT
UID:27977@stadtgeschichte-muenchen.de
SUMMARY:Was ned ois gibt
DESCRIPTION:&lt;p&gt;Die Straßlacher Saitenpfeifer erfreuen uns mit den Klängen echter bayrischer Stubnmusi. Dazwischen hören wir selbst geschriebene Geschichten von Peter Hutmann, die uns vom Chiemgau bis zutiefst in den Bregenzerwald entführen.&lt;/p&gt;
DTSTART:20260312T180000
DTEND:20260312T193000
LOCATION:Kunstforum Arabellapark Rosenkavalierplatz 16
ORGANIZER:MVHS
END:VEVENT
END:VCALENDAR