BEGIN:VCALENDAR
VERSION:2.0
PRODID:-//Stadtgeschichte München//DE
CALSCALE:GREGORIAN
BEGIN:VEVENT
UID:27981@stadtgeschichte-muenchen.de
SUMMARY:Der Ostpark gestern, heute und morgen
DESCRIPTION:&lt;p&gt;Der Ostpark ist der größte Park im Münchner Südosten. Als grüne Lunge für die umliegenden Stadtteile besitzt er mit seinen Sportflächen, Spielplätzen und weitläufigen Grünflächen ganzjährig hohen&amp;nbsp;Freizeitdruck. Der Ostpark war Teil der Gesamtplanung des Stadtteils Neuperlach. Nach&amp;nbsp;mehr als 50 Jahren wird der Park im Rahmen der Stadtsanierung (www.stadtsanierung-neuperlach.de)&amp;nbsp;weitergedacht und aktuelle Rahmenbedingungen überprüft. Der Rundgang besucht wichtige Orte im Ostpark und diskutiert deren Entwicklungspotential.&lt;/p&gt;
DTSTART:20260724T160000
DTEND:20260724T180000
LOCATION:Vor dem Eingang Abenteuerspielplatz Maulwurfshausen Albert-Schweitzer-Straße 24
ORGANIZER:MVHS
END:VEVENT
END:VCALENDAR