BEGIN:VCALENDAR
VERSION:2.0
PRODID:-//Stadtgeschichte München//DE
CALSCALE:GREGORIAN
BEGIN:VEVENT
UID:27986@stadtgeschichte-muenchen.de
SUMMARY:Grüne Schätze im Ostpark
DESCRIPTION:&lt;p&gt;Der gesamte Ostpark ist seit der Eröffnung im Mai 1982 als Erholungsraum sehr beliebt. Seine Entstehungsgeschichte im Zuge des Neubaus von Neuperlach ist dagegen eher unbekannt. Bei dieser Tour lernen wir die interessante Geschichte des Parks kennen. Wie oft gehen wir aber auch durch den Park, ohne zu wissen, welche Naturschätze direkt in der Nachbarschaft wachsen? Wir entdecken ausgewählte Baumarten, ihre Besonderheiten, ihre Bedeutung in Geschichte, Mythologie und Kultur, aber auch ihre Rolle für uns Menschen heute.&lt;/p&gt;
DTSTART:20260624T180000
DTEND:20260624T200000
LOCATION:Eingang Ostpark, Ostseite Parkplatz Michaelibad, am Südende der Feichtstr.
ORGANIZER:MVHS
END:VEVENT
END:VCALENDAR