BEGIN:VCALENDAR
VERSION:2.0
PRODID:-//Stadtgeschichte München//DE
CALSCALE:GREGORIAN
BEGIN:VEVENT
UID:27991@stadtgeschichte-muenchen.de
SUMMARY:Das Christophorus-Haus in München
DESCRIPTION:&lt;p&gt;Sterben und Tod gehören zu den Themen, die wir gerne verdrängen. Dem versucht die Hospizbewegung gezielt entgegenzuwirken. Wir laden Sie ein, das 2006 eröffnete Christophorus-Haus näher kennenzulernen, in dem die Hospizarbeit auf vielfältige Weise umgesetzt wird: Neben einem stationären Hospiz mit 16 Betten beherbergt das Haus in Trägerschaft des Christophorus Hospiz Vereins e.V. auch einen ambulanten Hospiz- und Palliativ-Beratungsdienst und bietet Information, Beratung, Seminare und Fortbildungen zu verschiedensten Fragen, wie unheilbare Erkrankung, Sterben, Tod oder Trauer.&lt;/p&gt;
DTSTART:20260421T100000
DTEND:20260421T120000
LOCATION:Christophorus-Haus, Eingangsbereich Effnerstr. 93
ORGANIZER:MVHS
END:VEVENT
END:VCALENDAR