BEGIN:VCALENDAR
VERSION:2.0
PRODID:-//Stadtgeschichte München//DE
CALSCALE:GREGORIAN
BEGIN:VEVENT
UID:27993@stadtgeschichte-muenchen.de
SUMMARY:Führung durch die Zaidman Seniorenresidenz der Israelitischen Kultusgemeinde
DESCRIPTION:&lt;p&gt;Mitten im Prinz Eugen Park befindet sich die Zaidman Seniorenresidenz der Israelitischen Kultusgemeinde. Offen für jüdische und nichtjüdische Bewohner*innen bietet die Einrichtung eine Synagoge, die auch architektonisch sehenswert ist. Weiterhin ist die Seniorenresidenz mit einem offenen Demenzbereich ausgestattet. Während der Führung erhalten wir einen Einblick in eines der modernsten Pflege- und Seniorenheime Münchens.&lt;/p&gt;&lt;p&gt;Aus Sicherheitsgründen benötigt die Einrichtung vorab die Namen und Geburtsdaten der Teilnehmenden.&lt;/p&gt;
DTSTART:20260504T150000
DTEND:20260504T163000
LOCATION:vor dem Eingang Eugen-Jochum-Str. 4
ORGANIZER:MVHS
END:VEVENT
END:VCALENDAR