BEGIN:VCALENDAR
VERSION:2.0
PRODID:-//Stadtgeschichte München//DE
CALSCALE:GREGORIAN
BEGIN:VEVENT
UID:27995@stadtgeschichte-muenchen.de
SUMMARY:Hier lebten Kelten, Römer und Bajuware
DESCRIPTION:&lt;p&gt;Die Tour führt an keltischen Fundstätten in Englschalking vorbei zur frühmittelalterlichen Bajuwarensiedlung an der Stegmühlstraße. An der Marienburger Straße, einer keltischen Altstraße, konnten zahlreiche archäologische Funde verzeichnet werden. Unser Ziel liegt am heutigen Platz Zur Deutschen Einheit in Denning. Dort stand vor fast 2000 Jahren eine ehemalige römischen Villa Rustica mit Badegebäuden aus der römischen Kaiserzeit.&lt;/p&gt;
DTSTART:20260516T150000
DTEND:20260516T170000
LOCATION:Burgauerstr., Edeka-Parkplatz
ORGANIZER:MVHS
END:VEVENT
END:VCALENDAR