BEGIN:VCALENDAR
VERSION:2.0
PRODID:-//Stadtgeschichte München//DE
CALSCALE:GREGORIAN
BEGIN:VEVENT
UID:28000@stadtgeschichte-muenchen.de
SUMMARY:Mit dem Fahrrad durch den Münchner Nordosten - Ortstermin
DESCRIPTION:&lt;p&gt;In den nächsten Jahren soll im Münchner Nordosten ein neuer Stadtteil, ein Zukunftsquartier, entstehen. Was ist da genau geplant? Der Münchner Nordosten ist heute vor allem durch einzelne Siedlungsinseln inmitten der freien Landschaft und landwirtschaftliche Nutzung geprägt. Englschalking, Daglfing und Johanneskirchen spielen mit ihren historisch erhaltenen Dorfkernen eine besondere Rolle. Vertreter des Referats für Stadtplanung und Bauordnung und weitere mit der Planung befasste Gäste beantworten Ihre Fragen.&lt;/p&gt;&lt;p&gt;In Kooperation mit dem Referat für Stadtplanung und Bauordnung.&lt;/p&gt;
DTSTART:20260924T163000
DTEND:20260924T183000
LOCATION:S-Bahnhof Englschalking (Ostseite), Ecke Brodersenstr./Seidleinweg
ORGANIZER:MVHS
END:VEVENT
END:VCALENDAR