BEGIN:VCALENDAR
VERSION:2.0
PRODID:-//Stadtgeschichte München//DE
CALSCALE:GREGORIAN
BEGIN:VEVENT
UID:28004@stadtgeschichte-muenchen.de
SUMMARY:Giesing rundum
DESCRIPTION:&lt;p&gt;Diese Führung gibt Ihnen einen Überblick über die Historie und Entwicklung des Stadtteils. Wir starten an der Hl.-Kreuz-Kirche und spazieren durch die unter Denkmalschutz stehende Feldmüllersiedlung, danach zur Silberhornstraße, &quot;dem Giesinger Stachus&quot;. Auf dem Weg sehen wir das &quot;Postkistl&quot;, ein hervorragendes Beispiel der Neuen Sachlichkeit. Der Weg führt zum Giesinger Grünspitz, einem zentralen Treffpunkt des sich wandelnden Stadtteils. Dort klären wir, warum genau gegenüber 1971 der erste McDonald&#039;s Deutschlands eröffnet wurde.&lt;/p&gt;
DTSTART:20260314T140000
DTEND:20260314T153000
LOCATION:Heilig-Kreuz-Kirche, Hauptportal (unterm Turm) Am Bergsteig
ORGANIZER:MVHS
END:VEVENT
END:VCALENDAR