BEGIN:VCALENDAR
VERSION:2.0
PRODID:-//Stadtgeschichte München//DE
CALSCALE:GREGORIAN
BEGIN:VEVENT
UID:28007@stadtgeschichte-muenchen.de
SUMMARY:Rund um den Giesinger Berg
DESCRIPTION:&lt;p&gt;Erkunden Sie ein Stadtviertel im Wandel der Zeit: vom stolzen Bauerndorf über den Industriestandort hin zum modernen Wohnviertel mit großem Charme. Von der TeLa-Post geht es durch die denkmalgeschützte Feldmüllersiedlung und den Giesinger Berg hinunter in die Untergiesinger Lohe mit ihrem malerischen &quot;Klein-Venedig&quot;. Danach machen wir uns auf den Weg zur Rosenblüte in den Rosengarten. Vom Schyrenbad und dem Marianum aus kehren wir&amp;nbsp;durch das ehemalige &quot;Glasscherbenviertel&quot; Birkenau schließlich wieder Richtung Obergiesing zurück.&lt;/p&gt;
DTSTART:20260426T140000
DTEND:20260426T160000
LOCATION:
ORGANIZER:MVHS
END:VEVENT
END:VCALENDAR