BEGIN:VCALENDAR
VERSION:2.0
PRODID:-//Stadtgeschichte München//DE
CALSCALE:GREGORIAN
BEGIN:VEVENT
UID:28017@stadtgeschichte-muenchen.de
SUMMARY:Messestadt Riem: von der Stadtbibliothek zum neuen MVHS
DESCRIPTION:&lt;p&gt;Astrid Lindgren und Willy Brandt kennen Sie vielleicht, aber Elisabeth Castonier? Durch die Messestadt Riem ziehen sich Straßen, die nach bekannten Persönlichkeiten benannt sind. Unterwegs stellen wir Ihnen eine Auswahl mit Zitaten vor. Nach einem kurzen Besuch in der Stadtbibliothek geht es bis zum neuen MVHS-Stadtteilzentrum, vorbei an Genossenschaftsbauten, dem neu zugezogenen Kinder- und Jugendmuseum, Willy-Brandt-Platz, Messesee und denkmalgeschützem Flughafen-Tower. Am Zielpunkt erwartet Sie „Paul Wassermann“ im MVHS Foyer mit Blick über das Schulareal bis zu den Alpen.&lt;/p&gt;
DTSTART:20260417T160000
DTEND:20260417T180000
LOCATION:Elisabeth-Castonier-Platz, vor der Stadtbibliothek
ORGANIZER:MVHS
END:VEVENT
END:VCALENDAR