BEGIN:VCALENDAR
VERSION:2.0
PRODID:-//Stadtgeschichte München//DE
CALSCALE:GREGORIAN
BEGIN:VEVENT
UID:28022@stadtgeschichte-muenchen.de
SUMMARY:Der Erinnerungsort BADEHAUS in Wolfratshausen-Waldram
DESCRIPTION:&lt;p&gt;Hier ist Geschichte wie im Zeitraffer erlebbar: zunächst Männerbad der NS-Siedlung Föhrenwald, nach Kriegsende von Überlebenden des KZ-Todesmarsches und jüdischen Displaced Persons als Sanitäranlage und Mikwe (jüdisches Ritualbad) in Gebrauch, ab 1956 als Wohnraum für katholische Heimatvertriebene genutzt. Auch wurden in nur elf Jahren die Straßen dieses Ortes dreimal umbenannt, und aus Föhrenwald entstand der Wolfratshauser Stadtteil Waldram.&lt;/p&gt;
DTSTART:20260326T190000
DTEND:20260326T210000
LOCATION:Grünwald Bürgerhaus Römerschanz Dr.-Max-Str. 1
ORGANIZER:MVHS
END:VEVENT
END:VCALENDAR