BEGIN:VCALENDAR
VERSION:2.0
PRODID:-//Stadtgeschichte München//DE
CALSCALE:GREGORIAN
BEGIN:VEVENT
UID:28029@stadtgeschichte-muenchen.de
SUMMARY:Hofführung auf Gut Ingold in Beigarten
DESCRIPTION:&lt;p&gt;Auf Gut Ingold werden Aubrac-Rinder gehalten - eine sehr widerstandsfähige Rinderrasse aus dem französischen Massif Central. Die Tiere sind im Sommer auf der Weide, im Winter fressen sie das Heu der hofeigenen Wiesen. Auf dem Gut betreibt man Mutterkuhhaltung zur Fleischproduktion. Transparenz der Ernährungsgrundlagen und ein respektvoller Umgang mit den Tieren hat Priorität. Im Hofladen werden die Produkte direkt vermarktet und nach der Führung gemeinsam verkostet.&lt;/p&gt;&lt;p&gt;Die Führung ist für Erwachsene konzipiert, Kinder können bei Interesse gern teilnehmen.&lt;/p&gt;
DTSTART:20260609T140000
DTEND:20260609T160000
LOCATION:Gut Ingold bei Straßlach Beigarten 1
ORGANIZER:MVHS
END:VEVENT
END:VCALENDAR