BEGIN:VCALENDAR
VERSION:2.0
PRODID:-//Stadtgeschichte München//DE
CALSCALE:GREGORIAN
BEGIN:VEVENT
UID:28031@stadtgeschichte-muenchen.de
SUMMARY:Sportgeschichte Grünwald: Basis für sportliche Erfolge
DESCRIPTION:&lt;p&gt;Vor über 75 Jahren wurde die ehemalige Sportschule Grünwald in einem feierlichen Festakt ihrer Bestimmung übergeben. Kaum bekannt ist, dass die Erweiterung in den 1960er Jahren und das erste Schwimmbad dem Bauhaus-Schüler Rudolf Ortner zu verdanken sind. Als Leiter der bayerischen Beratungsstelle für Turn- und Sportstättenbau – mit Sitz in Grünwald – entwarf er Gebäude, die nicht nur ästhetisch überzeugten, sondern zweckmäßig und zukunftsweisend waren. Der Geschäftsführer des Grünwalder Freizeitparks Jörn Verleger zeigt Ihnen die historischen Orte des Geländes.&lt;/p&gt;
DTSTART:20260624T160000
DTEND:20260624T180000
LOCATION:Grünwalder Freizeitpark, Eingang Schwimmhalle
ORGANIZER:MVHS
END:VEVENT
END:VCALENDAR