BEGIN:VCALENDAR
VERSION:2.0
PRODID:-//Stadtgeschichte München//DE
CALSCALE:GREGORIAN
BEGIN:VEVENT
UID:28039@stadtgeschichte-muenchen.de
SUMMARY:Location Sendling - Filmspaziergang
DESCRIPTION:&lt;p&gt;In Sendling wurden und werden zahlreiche Filme und Serien gedreht. Und sogar Münchner Filmgeschichte wurde hier geschrieben: So war das Sendlinger Lichtspielhaus mit fast 900 Sitzplätzen eines der größten Stadtteilkinos in München. Dieser Filmspaziergang mit dem Dokumentarfilmer Reinhold Rühl sucht Drehorte von Filmen und Serien auf wie etwa &quot;Zur Freiheit&quot;&amp;nbsp; oder &quot;Himmel, Herrgott, Sakrament&quot;&amp;nbsp;und gibt Hintergrundinformationen zu den Produktionen und den Dreharbeiten.&lt;/p&gt;&lt;p&gt;Der Spaziergang endet an der Sendlinger Kulturschmiede&lt;/p&gt;
DTSTART:20260418T140000
DTEND:20260418T153000
LOCATION:Kulturzentrum LUISE, Eingangsportal Ruppertstraße 5
ORGANIZER:MVHS
END:VEVENT
END:VCALENDAR