BEGIN:VCALENDAR
VERSION:2.0
PRODID:-//Stadtgeschichte München//DE
CALSCALE:GREGORIAN
BEGIN:VEVENT
UID:28050@stadtgeschichte-muenchen.de
SUMMARY:Die Feuerwache 2 
DESCRIPTION:&lt;p&gt;Die Feuerwache 2 in der Aidenbachstraße ist eine von 10 Feuerwachen der Berufsfeuerwehr München. Ob Brandalarm, Rettungseinsatz, technische Hilfeleistung oder ABC-Schutz - die Feuerwehr leistet Hilfe in verschiedensten Notsituationen. Die Führung informiert über die Feuerwache 2, die Einsatzgebiete und Fahrzeuge sowie den Arbeitsalltag der Wachleute.&lt;/p&gt;
DTSTART:20260417T133000
DTEND:20260417T150000
LOCATION:Feuerwache 2 Aidenbachstr. 7
ORGANIZER:MVHS
END:VEVENT
END:VCALENDAR